Package: MDTS Version: 1.27.0 Command: /Library/Frameworks/R.framework/Resources/bin/R CMD INSTALL MDTS StartedAt: 2025-02-20 15:10:02 -0500 (Thu, 20 Feb 2025) EndedAt: 2025-02-20 15:10:11 -0500 (Thu, 20 Feb 2025) EllapsedTime: 9.7 seconds RetCode: 0 Status: OK