Package: MCbiclust Version: 1.33.0 Command: /home/biocbuild/R/R/bin/R CMD build --keep-empty-dirs --no-resave-data MCbiclust StartedAt: 2025-10-14 01:30:49 -0000 (Tue, 14 Oct 2025) EndedAt: 2025-10-14 01:32:26 -0000 (Tue, 14 Oct 2025) EllapsedTime: 97.0 seconds RetCode: 0 Status: OK PackageFile: MCbiclust_1.33.0.tar.gz PackageFileSize: 4.289 MiB