Package: MBttest Version: 1.37.0 Command: /Library/Frameworks/R.framework/Resources/bin/R CMD build --keep-empty-dirs --no-resave-data MBttest StartedAt: 2025-05-06 17:20:18 -0400 (Tue, 06 May 2025) EndedAt: 2025-05-06 17:20:43 -0400 (Tue, 06 May 2025) EllapsedTime: 25.1 seconds RetCode: 0 Status: OK PackageFile: MBttest_1.37.0.tar.gz PackageFileSize: 3.447 MiB