Package: MBQN Version: 2.21.0 Command: /home/biocbuild/bbs-3.22-bioc/R/bin/R CMD build --keep-empty-dirs --no-resave-data --md5 MBQN StartedAt: 2025-10-07 18:32:18 -0400 (Tue, 07 Oct 2025) EndedAt: 2025-10-07 18:32:26 -0400 (Tue, 07 Oct 2025) EllapsedTime: 8.0 seconds RetCode: 0 Status: OK PackageFile: MBQN_2.21.0.tar.gz PackageFileSize: 214.6 KiB