Package: MBECS Version: 1.11.0 Command: /home/biocbuild/bbs-3.21-bioc/R/bin/R CMD INSTALL MBECS StartedAt: 2025-02-05 15:27:12 -0500 (Wed, 05 Feb 2025) EndedAt: 2025-02-05 15:27:32 -0500 (Wed, 05 Feb 2025) EllapsedTime: 20.4 seconds RetCode: 0 Status: OK