Package: MBECS Version: 1.13.0 Maintainer: Michael Olbrich MaintainerEmail: M.Olbrich at protonmail.com git_url: https://git.bioconductor.org/packages/MBECS git_branch: devel git_last_commit: b8d89b6 git_last_commit_date: 2025-04-15 12:46:50 -0400 (Tue, 15 Apr 2025)