Package: MBCB Version: 1.63.0 Command: /home/biocbuild/bbs-3.22-bioc/R/bin/R CMD INSTALL MBCB StartedAt: 2025-09-30 15:12:05 -0400 (Tue, 30 Sep 2025) EndedAt: 2025-09-30 15:12:07 -0400 (Tue, 30 Sep 2025) EllapsedTime: 2.6 seconds RetCode: 0 Status: OK