Package: MBCB Version: 1.63.0 Command: /home/biocbuild/bbs-3.22-bioc/R/bin/R CMD build --keep-empty-dirs --no-resave-data --md5 MBCB StartedAt: 2025-09-30 18:26:31 -0400 (Tue, 30 Sep 2025) EndedAt: 2025-09-30 18:26:38 -0400 (Tue, 30 Sep 2025) EllapsedTime: 7.0 seconds RetCode: 0 Status: OK PackageFile: MBCB_1.63.0.tar.gz PackageFileSize: 411.3 KiB