Package: MBAmethyl Version: 1.43.0 Command: /home/biocbuild/bbs-3.22-bioc/R/bin/R CMD INSTALL MBAmethyl StartedAt: 2025-10-03 15:01:15 -0400 (Fri, 03 Oct 2025) EndedAt: 2025-10-03 15:01:22 -0400 (Fri, 03 Oct 2025) EllapsedTime: 7.3 seconds RetCode: 0 Status: OK