Package: MBAmethyl Version: 1.43.0 Command: /home/biocbuild/bbs-3.22-bioc/R/bin/R CMD build --keep-empty-dirs --no-resave-data --md5 MBAmethyl StartedAt: 2025-10-03 18:26:25 -0400 (Fri, 03 Oct 2025) EndedAt: 2025-10-03 18:26:35 -0400 (Fri, 03 Oct 2025) EllapsedTime: 10.0 seconds RetCode: 0 Status: OK PackageFile: MBAmethyl_1.43.0.tar.gz PackageFileSize: 88.23 KiB