Package: MAST Version: 1.35.0 Command: chmod a+r MAST -R && F:\biocbuild\bbs-3.22-bioc\R\bin\R.exe CMD build --keep-empty-dirs --no-resave-data MAST StartedAt: 2025-08-14 21:14:20 -0400 (Thu, 14 Aug 2025) EndedAt: 2025-08-14 21:20:46 -0400 (Thu, 14 Aug 2025) EllapsedTime: 386.1 seconds RetCode: 1 Status: ERROR PackageFile: None PackageFileSize: NA