Package: MAST Version: 1.33.0 Command: chmod a+r MAST -R && E:\biocbuild\bbs-3.21-bioc\R\bin\R.exe CMD build --keep-empty-dirs --no-resave-data MAST StartedAt: 2025-02-16 19:34:08 -0500 (Sun, 16 Feb 2025) EndedAt: 2025-02-16 19:40:59 -0500 (Sun, 16 Feb 2025) EllapsedTime: 411.8 seconds RetCode: 0 Status: OK PackageFile: MAST_1.33.0.tar.gz PackageFileSize: 5.39 MiB