Package: MAST Version: 1.33.0 Command: rm -rf MAST.buildbin-libdir && mkdir MAST.buildbin-libdir && E:\biocbuild\bbs-3.21-bioc\R\bin\R.exe CMD INSTALL --build --library=MAST.buildbin-libdir MAST_1.33.0.tar.gz StartedAt: 2025-02-17 07:50:26 -0500 (Mon, 17 Feb 2025) EndedAt: 2025-02-17 07:51:54 -0500 (Mon, 17 Feb 2025) EllapsedTime: 88.3 seconds RetCode: 0 Status: OK PackageFile: MAST_1.33.0.zip PackageFileSize: 6.076 MiB