Package: MAPFX Version: 1.5.0 Command: /home/biocbuild/R/R/bin/R CMD build --keep-empty-dirs --no-resave-data MAPFX StartedAt: 2025-09-30 01:01:59 -0000 (Tue, 30 Sep 2025) EndedAt: 2025-09-30 01:11:45 -0000 (Tue, 30 Sep 2025) EllapsedTime: 586.3 seconds RetCode: 0 Status: OK PackageFile: MAPFX_1.5.0.tar.gz PackageFileSize: 3.569 MiB