Package: MAPFX Version: 1.5.0 Command: /home/biocbuild/bbs-3.22-bioc/R/bin/R CMD build --keep-empty-dirs --no-resave-data --md5 MAPFX StartedAt: 2025-10-19 18:26:05 -0400 (Sun, 19 Oct 2025) EndedAt: 2025-10-19 18:33:32 -0400 (Sun, 19 Oct 2025) EllapsedTime: 447.4 seconds RetCode: 0 Status: OK PackageFile: MAPFX_1.5.0.tar.gz PackageFileSize: 3.545 MiB