Package: MAPFX Version: 1.3.0 Command: /Library/Frameworks/R.framework/Resources/bin/R CMD build --keep-empty-dirs --no-resave-data MAPFX StartedAt: 2025-02-16 17:08:33 -0500 (Sun, 16 Feb 2025) EndedAt: 2025-02-16 17:16:45 -0500 (Sun, 16 Feb 2025) EllapsedTime: 492.2 seconds RetCode: 0 Status: OK PackageFile: MAPFX_1.3.0.tar.gz PackageFileSize: 3.543 MiB