Package: MANOR Version: 1.81.0 Command: /home/biocbuild/bbs-3.22-bioc/R/bin/R CMD INSTALL MANOR StartedAt: 2025-10-03 15:02:08 -0400 (Fri, 03 Oct 2025) EndedAt: 2025-10-03 15:02:24 -0400 (Fri, 03 Oct 2025) EllapsedTime: 15.9 seconds RetCode: 0 Status: OK