Package: MANOR Version: 1.81.0 Command: /home/biocbuild/bbs-3.22-bioc/R/bin/R CMD build --keep-empty-dirs --no-resave-data --md5 MANOR StartedAt: 2025-10-03 18:24:01 -0400 (Fri, 03 Oct 2025) EndedAt: 2025-10-03 18:24:43 -0400 (Fri, 03 Oct 2025) EllapsedTime: 42.0 seconds RetCode: 0 Status: OK PackageFile: MANOR_1.81.0.tar.gz PackageFileSize: 1.478 MiB