Package: MANOR Version: 1.83.0 Command: /home/biocbuild/bbs-3.23-bioc/R/bin/R CMD INSTALL MANOR StartedAt: 2025-11-21 15:03:21 -0500 (Fri, 21 Nov 2025) EndedAt: 2025-11-21 15:03:35 -0500 (Fri, 21 Nov 2025) EllapsedTime: 13.6 seconds RetCode: 0 Status: OK