Package: MANOR Version: 1.83.0 Command: /Library/Frameworks/R.framework/Resources/bin/R CMD build --keep-empty-dirs --no-resave-data MANOR StartedAt: 2025-11-18 17:31:18 -0500 (Tue, 18 Nov 2025) EndedAt: 2025-11-18 17:32:09 -0500 (Tue, 18 Nov 2025) EllapsedTime: 50.4 seconds RetCode: 0 Status: OK PackageFile: MANOR_1.83.0.tar.gz PackageFileSize: 1.695 MiB