Package: MANOR Version: 1.83.0 Command: rm -rf MANOR.buildbin-libdir && mkdir MANOR.buildbin-libdir && /Users/biocbuild/BBS/utils/build-universal.sh MANOR_1.83.0.tar.gz /Library/Frameworks/R.framework/Resources/bin/R MANOR.buildbin-libdir StartedAt: 2025-11-19 01:36:23 -0500 (Wed, 19 Nov 2025) EndedAt: 2025-11-19 01:36:38 -0500 (Wed, 19 Nov 2025) EllapsedTime: 15.0 seconds RetCode: 0 Status: OK PackageFile: MANOR_1.83.0.tgz PackageFileSize: 1.787 MiB