Package: MANOR Version: 1.81.0 Command: /Library/Frameworks/R.framework/Resources/bin/R CMD INSTALL MANOR StartedAt: 2025-10-28 15:01:45 -0400 (Tue, 28 Oct 2025) EndedAt: 2025-10-28 15:01:48 -0400 (Tue, 28 Oct 2025) EllapsedTime: 2.8 seconds RetCode: 0 Status: OK