Package: MANOR Version: 1.81.0 Command: /Library/Frameworks/R.framework/Resources/bin/R CMD build --keep-empty-dirs --no-resave-data MANOR StartedAt: 2025-10-28 16:52:21 -0400 (Tue, 28 Oct 2025) EndedAt: 2025-10-28 16:52:50 -0400 (Tue, 28 Oct 2025) EllapsedTime: 29.3 seconds RetCode: 0 Status: OK PackageFile: MANOR_1.81.0.tar.gz PackageFileSize: 1.696 MiB