Package: MANOR Version: 1.82.0 Command: rm -rf MANOR.buildbin-libdir && mkdir MANOR.buildbin-libdir && /Users/biocbuild/BBS/utils/build-universal.sh MANOR_1.82.0.tar.gz /Library/Frameworks/R.framework/Resources/bin/R MANOR.buildbin-libdir StartedAt: 2025-10-30 05:29:52 -0400 (Thu, 30 Oct 2025) EndedAt: 2025-10-30 05:29:55 -0400 (Thu, 30 Oct 2025) EllapsedTime: 3.0 seconds RetCode: 0 Status: OK PackageFile: MANOR_1.82.0.tgz PackageFileSize: 1.784 MiB