Package: MAIT Version: 1.41.0 Command: /home/biocbuild/R/R/bin/R CMD INSTALL MAIT StartedAt: 2025-01-29 20:25:03 -0000 (Wed, 29 Jan 2025) EndedAt: 2025-01-29 20:26:16 -0000 (Wed, 29 Jan 2025) EllapsedTime: 73.8 seconds RetCode: 0 Status: OK