Package: MAIT Version: 1.41.0 Command: /home/biocbuild/R/R/bin/R CMD check --install=check:MAIT.install-out.txt --library=/home/biocbuild/R/R/site-library --no-vignettes --timings MAIT_1.41.0.tar.gz StartedAt: 2025-01-28 12:00:56 -0000 (Tue, 28 Jan 2025) EndedAt: 2025-01-28 12:10:40 -0000 (Tue, 28 Jan 2025) EllapsedTime: 584.7 seconds RetCode: 0 Status: OK CheckDir: MAIT.Rcheck Warnings: 0