Package: MAIT Version: 1.43.0 Maintainer: Pol Sola-Santos MaintainerEmail: pol.soladelossantos at gmail.com git_url: https://git.bioconductor.org/packages/MAIT git_branch: devel git_last_commit: c489a34 git_last_commit_date: 2025-04-15 10:35:27 -0400 (Tue, 15 Apr 2025)