Package: MAI Version: 1.15.0 Command: /home/biocbuild/bbs-3.22-bioc/R/bin/R CMD INSTALL MAI StartedAt: 2025-10-15 15:30:49 -0400 (Wed, 15 Oct 2025) EndedAt: 2025-10-15 15:31:17 -0400 (Wed, 15 Oct 2025) EllapsedTime: 28.0 seconds RetCode: 0 Status: OK