Package: MAI Version: 1.15.0 Command: /home/biocbuild/bbs-3.22-bioc/R/bin/R CMD build --keep-empty-dirs --no-resave-data --md5 MAI StartedAt: 2025-10-15 18:32:36 -0400 (Wed, 15 Oct 2025) EndedAt: 2025-10-15 18:37:09 -0400 (Wed, 15 Oct 2025) EllapsedTime: 273.2 seconds RetCode: 0 Status: OK PackageFile: MAI_1.15.0.tar.gz PackageFileSize: 453.2 KiB