Package: MAI Version: 1.15.0 Command: /Library/Frameworks/R.framework/Resources/bin/R CMD build --keep-empty-dirs --no-resave-data MAI StartedAt: 2025-05-22 17:16:03 -0400 (Thu, 22 May 2025) EndedAt: 2025-05-22 17:20:59 -0400 (Thu, 22 May 2025) EllapsedTime: 295.8 seconds RetCode: 0 Status: OK PackageFile: MAI_1.15.0.tar.gz PackageFileSize: 452.2 KiB