Package: MAI Version: 1.15.0 Command: /Library/Frameworks/R.framework/Resources/bin/R CMD check --install=check:MAI.install-out.txt --library=/Library/Frameworks/R.framework/Resources/library --no-vignettes --timings MAI_1.15.0.tar.gz StartedAt: 2025-05-27 19:50:45 -0400 (Tue, 27 May 2025) EndedAt: 2025-05-27 19:53:23 -0400 (Tue, 27 May 2025) EllapsedTime: 158.0 seconds RetCode: 0 Status: OK CheckDir: MAI.Rcheck Warnings: 0