Package: MAI Version: 1.15.0 Command: /Library/Frameworks/R.framework/Resources/bin/R CMD build --keep-empty-dirs --no-resave-data MAI StartedAt: 2025-05-27 16:43:20 -0400 (Tue, 27 May 2025) EndedAt: 2025-05-27 16:45:02 -0400 (Tue, 27 May 2025) EllapsedTime: 102.1 seconds RetCode: 0 Status: OK PackageFile: MAI_1.15.0.tar.gz PackageFileSize: 451.8 KiB