Package: MAI Version: 1.15.0 Command: rm -rf MAI.buildbin-libdir && mkdir MAI.buildbin-libdir && /Users/biocbuild/BBS/utils/build-universal.sh MAI_1.15.0.tar.gz /Library/Frameworks/R.framework/Resources/bin/R MAI.buildbin-libdir StartedAt: 2025-05-27 22:18:54 -0400 (Tue, 27 May 2025) EndedAt: 2025-05-27 22:19:07 -0400 (Tue, 27 May 2025) EllapsedTime: 12.3 seconds RetCode: 0 Status: OK PackageFile: MAI_1.15.0.tgz PackageFileSize: 498.6 KiB