Package: MAGAR Version: 1.17.0 Command: chmod a+r MAGAR -R && F:\biocbuild\bbs-3.22-bioc\R\bin\R.exe CMD build --keep-empty-dirs --no-resave-data MAGAR StartedAt: 2025-08-14 21:11:20 -0400 (Thu, 14 Aug 2025) EndedAt: 2025-08-14 21:15:37 -0400 (Thu, 14 Aug 2025) EllapsedTime: 257.5 seconds RetCode: 0 Status: OK PackageFile: MAGAR_1.17.0.tar.gz PackageFileSize: 809.5 KiB