Package: MAGAR Version: 1.17.0 Command: /Library/Frameworks/R.framework/Resources/bin/R CMD INSTALL MAGAR StartedAt: 2025-05-01 15:48:30 -0400 (Thu, 01 May 2025) EndedAt: 2025-05-01 15:49:20 -0400 (Thu, 01 May 2025) EllapsedTime: 50.2 seconds RetCode: 0 Status: OK