Package: MAGAR Version: 1.17.0 Command: /Library/Frameworks/R.framework/Resources/bin/R CMD build --keep-empty-dirs --no-resave-data MAGAR StartedAt: 2025-05-06 16:48:48 -0400 (Tue, 06 May 2025) EndedAt: 2025-05-06 16:49:49 -0400 (Tue, 06 May 2025) EllapsedTime: 60.7 seconds RetCode: 0 Status: OK PackageFile: MAGAR_1.17.0.tar.gz PackageFileSize: 1021 KiB