Package: MADSEQ Version: 1.35.1 Command: chmod a+r MADSEQ -R && F:\biocbuild\bbs-3.22-bioc\R\bin\R.exe CMD build --keep-empty-dirs --no-resave-data MADSEQ StartedAt: 2025-08-14 21:11:12 -0400 (Thu, 14 Aug 2025) EndedAt: 2025-08-14 21:11:15 -0400 (Thu, 14 Aug 2025) EllapsedTime: 3.0 seconds RetCode: 1 Status: ERROR PackageFile: None PackageFileSize: NA