Package: MADSEQ Version: 1.33.0 Command: /Library/Frameworks/R.framework/Resources/bin/R CMD check --install=check:MADSEQ.install-out.txt --library=/Library/Frameworks/R.framework/Resources/library --no-vignettes --timings MADSEQ_1.33.0.tar.gz StartedAt: 2025-02-04 21:23:15 -0500 (Tue, 04 Feb 2025) EndedAt: 2025-02-04 21:28:43 -0500 (Tue, 04 Feb 2025) EllapsedTime: 328.0 seconds RetCode: 0 Status: OK CheckDir: MADSEQ.Rcheck Warnings: 0