Package: MADSEQ Version: 1.33.0 Command: /Library/Frameworks/R.framework/Resources/bin/R CMD build --keep-empty-dirs --no-resave-data MADSEQ StartedAt: 2025-02-04 17:12:45 -0500 (Tue, 04 Feb 2025) EndedAt: 2025-02-04 17:14:03 -0500 (Tue, 04 Feb 2025) EllapsedTime: 78.0 seconds RetCode: 0 Status: OK PackageFile: MADSEQ_1.33.0.tar.gz PackageFileSize: 2.032 MiB