Package: MADSEQ Version: 1.33.0 Command: rm -rf MADSEQ.buildbin-libdir && mkdir MADSEQ.buildbin-libdir && /Users/biocbuild/BBS/utils/build-universal.sh MADSEQ_1.33.0.tar.gz /Library/Frameworks/R.framework/Resources/bin/R MADSEQ.buildbin-libdir StartedAt: 2025-02-05 00:46:56 -0500 (Wed, 05 Feb 2025) EndedAt: 2025-02-05 00:47:57 -0500 (Wed, 05 Feb 2025) EllapsedTime: 61.4 seconds RetCode: 0 Status: OK PackageFile: MADSEQ_1.33.0.tgz PackageFileSize: 2.416 MiB