Package: MADSEQ Version: 1.33.0 Command: /home/biocbuild/R/R/bin/R CMD INSTALL MADSEQ StartedAt: 2025-01-29 19:58:40 -0000 (Wed, 29 Jan 2025) EndedAt: 2025-01-29 19:59:38 -0000 (Wed, 29 Jan 2025) EllapsedTime: 58.5 seconds RetCode: 0 Status: OK