Package: MADSEQ
Version: 1.33.0
Command: /Library/Frameworks/R.framework/Resources/bin/R CMD build --keep-empty-dirs --no-resave-data MADSEQ
StartedAt: 2025-02-10 16:47:29 -0500 (Mon, 10 Feb 2025)
EndedAt: 2025-02-10 16:47:58 -0500 (Mon, 10 Feb 2025)
EllapsedTime: 29.3 seconds
RetCode: 0
Status: OK
PackageFile: MADSEQ_1.33.0.tar.gz
PackageFileSize: 2.026 <A href="http://en.wikipedia.org/wiki/MiB" target="_blank">MiB</A>