Package: MACSr Version: 1.17.0 Command: /Library/Frameworks/R.framework/Resources/bin/R CMD check --install=check:MACSr.install-out.txt --library=/Library/Frameworks/R.framework/Resources/library --no-vignettes --timings MACSr_1.17.0.tar.gz StartedAt: 2025-05-02 21:33:16 -0400 (Fri, 02 May 2025) EndedAt: 2025-05-02 21:36:57 -0400 (Fri, 02 May 2025) EllapsedTime: 220.8 seconds RetCode: 0 Status: OK CheckDir: MACSr.Rcheck Warnings: 0