Package: MACSr Version: 1.17.0 Command: /Library/Frameworks/R.framework/Resources/bin/R CMD build --keep-empty-dirs --no-resave-data MACSr StartedAt: 2025-05-02 17:18:40 -0400 (Fri, 02 May 2025) EndedAt: 2025-05-02 17:19:30 -0400 (Fri, 02 May 2025) EllapsedTime: 50.4 seconds RetCode: 0 Status: OK PackageFile: MACSr_1.17.0.tar.gz PackageFileSize: 5.112 MiB