Package: MACSr Version: 1.15.0 Command: /home/biocbuild/R/R/bin/R CMD build --keep-empty-dirs --no-resave-data MACSr StartedAt: 2025-01-28 23:57:53 -0000 (Tue, 28 Jan 2025) EndedAt: 2025-01-28 23:58:45 -0000 (Tue, 28 Jan 2025) EllapsedTime: 52.0 seconds RetCode: 0 Status: OK PackageFile: MACSr_1.15.0.tar.gz PackageFileSize: 5.177 MiB