Package: MACSr Version: 1.17.0 Command: /Library/Frameworks/R.framework/Resources/bin/R CMD check --install=check:MACSr.install-out.txt --library=/Library/Frameworks/R.framework/Resources/library --no-vignettes --timings MACSr_1.17.0.tar.gz StartedAt: 2025-05-06 20:21:02 -0400 (Tue, 06 May 2025) EndedAt: 2025-05-06 20:22:27 -0400 (Tue, 06 May 2025) EllapsedTime: 85.1 seconds RetCode: 0 Status: OK CheckDir: MACSr.Rcheck Warnings: 0