Package: MACSr Version: 1.17.0 Command: /Library/Frameworks/R.framework/Resources/bin/R CMD build --keep-empty-dirs --no-resave-data MACSr StartedAt: 2025-05-06 16:48:43 -0400 (Tue, 06 May 2025) EndedAt: 2025-05-06 16:49:03 -0400 (Tue, 06 May 2025) EllapsedTime: 20.2 seconds RetCode: 0 Status: OK PackageFile: MACSr_1.17.0.tar.gz PackageFileSize: 5.112 MiB