Package: M3Drop Version: 1.35.0 Command: /Library/Frameworks/R.framework/Resources/bin/R CMD check --install=check:M3Drop.install-out.txt --library=/Library/Frameworks/R.framework/Resources/library --no-vignettes --timings M3Drop_1.35.0.tar.gz StartedAt: 2025-05-04 21:31:35 -0400 (Sun, 04 May 2025) EndedAt: 2025-05-04 21:37:23 -0400 (Sun, 04 May 2025) EllapsedTime: 347.9 seconds RetCode: 0 Status: OK CheckDir: M3Drop.Rcheck Warnings: 0