Package: M3C Version: 1.31.0 Command: rm -rf M3C.buildbin-libdir && mkdir M3C.buildbin-libdir && F:\biocbuild\bbs-3.22-bioc\R\bin\R.exe CMD INSTALL --build --library=M3C.buildbin-libdir M3C_1.31.0.tar.gz StartedAt: 2025-08-15 10:36:26 -0400 (Fri, 15 Aug 2025) EndedAt: 2025-08-15 10:36:51 -0400 (Fri, 15 Aug 2025) EllapsedTime: 25.3 seconds RetCode: 0 Status: OK PackageFile: M3C_1.31.0.zip PackageFileSize: 760.6 KiB