Package: LymphoSeq Version: 1.37.0 Command: chmod a+r LymphoSeq -R && F:\biocbuild\bbs-3.22-bioc\R\bin\R.exe CMD build --keep-empty-dirs --no-resave-data LymphoSeq StartedAt: 2025-08-14 21:09:55 -0400 (Thu, 14 Aug 2025) EndedAt: 2025-08-14 21:11:43 -0400 (Thu, 14 Aug 2025) EllapsedTime: 108.5 seconds RetCode: 0 Status: OK PackageFile: LymphoSeq_1.37.0.tar.gz PackageFileSize: 1.366 MiB